BEGIN:VCALENDAR
VERSION:2.0
PRODID:-//The Blind Squirrel Pub - ECPv6.10.1//NONSGML v1.0//EN
CALSCALE:GREGORIAN
METHOD:PUBLISH
X-WR-CALNAME:The Blind Squirrel Pub
X-ORIGINAL-URL:https://thebspub.com
X-WR-CALDESC:Events for The Blind Squirrel Pub
REFRESH-INTERVAL;VALUE=DURATION:PT1H
X-Robots-Tag:noindex
X-PUBLISHED-TTL:PT1H
BEGIN:VTIMEZONE
TZID:America/New_York
BEGIN:DAYLIGHT
TZOFFSETFROM:-0500
TZOFFSETTO:-0400
TZNAME:EDT
DTSTART:20250309T070000
END:DAYLIGHT
BEGIN:STANDARD
TZOFFSETFROM:-0400
TZOFFSETTO:-0500
TZNAME:EST
DTSTART:20251102T060000
END:STANDARD
END:VTIMEZONE
BEGIN:VEVENT
DTSTART;TZID=America/New_York:20250503T180000
DTEND;TZID=America/New_York:20250503T210000
DTSTAMP:20260419T163834
CREATED:20250402T224553Z
LAST-MODIFIED:20250402T224553Z
UID:264-1746295200-1746306000@thebspub.com
SUMMARY:Live Music: Dave Porter
DESCRIPTION:
URL:https://thebspub.com/event/live-music-dave-porter/
LOCATION:The Blind Squirrel Pub\, 161 Phelps St\, Oneida\, NY\, 13421
END:VEVENT
BEGIN:VEVENT
DTSTART;TZID=America/New_York:20250510T180000
DTEND;TZID=America/New_York:20250510T210000
DTSTAMP:20260419T163834
CREATED:20250402T224638Z
LAST-MODIFIED:20250402T224731Z
UID:266-1746900000-1746910800@thebspub.com
SUMMARY:Live Music: Ed Hildreth
DESCRIPTION:
URL:https://thebspub.com/event/live-music-ed-hildreth/
LOCATION:The Blind Squirrel Pub\, 161 Phelps St\, Oneida\, NY\, 13421
END:VEVENT
BEGIN:VEVENT
DTSTART;TZID=America/New_York:20250517T180000
DTEND;TZID=America/New_York:20250517T210000
DTSTAMP:20260419T163834
CREATED:20250402T224815Z
LAST-MODIFIED:20250402T224815Z
UID:268-1747504800-1747515600@thebspub.com
SUMMARY:Live Music: Rocky Graziano
DESCRIPTION:
URL:https://thebspub.com/event/live-music-rocky-graziano/
LOCATION:The Blind Squirrel Pub\, 161 Phelps St\, Oneida\, NY\, 13421
END:VEVENT
BEGIN:VEVENT
DTSTART;TZID=America/New_York:20250524T180000
DTEND;TZID=America/New_York:20250524T210000
DTSTAMP:20260419T163834
CREATED:20250402T224913Z
LAST-MODIFIED:20250402T224913Z
UID:270-1748109600-1748120400@thebspub.com
SUMMARY:Live Music: Tony - Acoustic Moose
DESCRIPTION:
URL:https://thebspub.com/event/live-music-tony-acoustic-moose/
LOCATION:The Blind Squirrel Pub\, 161 Phelps St\, Oneida\, NY\, 13421
END:VEVENT
BEGIN:VEVENT
DTSTART;TZID=America/New_York:20250531T180000
DTEND;TZID=America/New_York:20250531T210000
DTSTAMP:20260419T163834
CREATED:20250402T224951Z
LAST-MODIFIED:20250402T224951Z
UID:272-1748714400-1748725200@thebspub.com
SUMMARY:Live Music: Jason Schnitt
DESCRIPTION:
URL:https://thebspub.com/event/live-music-jason-schnitt-2/
LOCATION:The Blind Squirrel Pub\, 161 Phelps St\, Oneida\, NY\, 13421
END:VEVENT
END:VCALENDAR